BEGIN:VCALENDAR
VERSION:2.0
PRODID:-//Next Generation Internet - ECPv6.15.12.2//NONSGML v1.0//EN
CALSCALE:GREGORIAN
METHOD:PUBLISH
X-WR-CALNAME:Next Generation Internet
X-ORIGINAL-URL:https://ngi.eu
X-WR-CALDESC:Events for Next Generation Internet
REFRESH-INTERVAL;VALUE=DURATION:PT1H
X-Robots-Tag:noindex
X-PUBLISHED-TTL:PT1H
BEGIN:VTIMEZONE
TZID:Europe/Warsaw
BEGIN:DAYLIGHT
TZOFFSETFROM:+0100
TZOFFSETTO:+0200
TZNAME:CEST
DTSTART:20190331T010000
END:DAYLIGHT
BEGIN:STANDARD
TZOFFSETFROM:+0200
TZOFFSETTO:+0100
TZNAME:CET
DTSTART:20191027T010000
END:STANDARD
BEGIN:DAYLIGHT
TZOFFSETFROM:+0100
TZOFFSETTO:+0200
TZNAME:CEST
DTSTART:20200329T010000
END:DAYLIGHT
BEGIN:STANDARD
TZOFFSETFROM:+0200
TZOFFSETTO:+0100
TZNAME:CET
DTSTART:20201025T010000
END:STANDARD
BEGIN:DAYLIGHT
TZOFFSETFROM:+0100
TZOFFSETTO:+0200
TZNAME:CEST
DTSTART:20210328T010000
END:DAYLIGHT
BEGIN:STANDARD
TZOFFSETFROM:+0200
TZOFFSETTO:+0100
TZNAME:CET
DTSTART:20211031T010000
END:STANDARD
END:VTIMEZONE
BEGIN:VEVENT
DTSTART;TZID=Europe/Warsaw:20200406T140000
DTEND;TZID=Europe/Warsaw:20200406T170000
DTSTAMP:20260420T070632
CREATED:20220728T080711Z
LAST-MODIFIED:20220728T080711Z
UID:39910-1586181600-1586192400@ngi.eu
SUMMARY:IGF 2020 OUTREACH WEBINAR
DESCRIPTION:What to expect from the IGF 2020 and how to engage?\nThe 15th annual meeting of the Internet Governance Forum (IGF) will be hosted by the government of Poland in Katowice from 2 to 6 November 2020. The meeting’s programme\, developed around the overarching theme the ‘Internet United’\, will focus on four thematic tracks: (1) Data; (2) Environment; (3) Inclusion; (4) Trust. \nJoin the first IGF 2020 Outreach Webinar to learn more about what to expect at the IGF 2020 in Katowice and how to take active participation. \nInteract Live With:\nIGF 2020 Host Country – Government of Poland\nIGF MAG Chair\nIGF Secretariat
URL:https://ngi.eu/event/igf-2020-outreach-webinar/
LOCATION:WEB-STREAMED | TIME UTC
CATEGORIES:Events
ATTACH;FMTTYPE=image/png:https://ngi.eu/wp-content/uploads/2020/03/Schermata-2020-03-20-alle-15.25.01.png
END:VEVENT
END:VCALENDAR