BEGIN:VCALENDAR
VERSION:2.0
PRODID:-//Next Generation Internet - ECPv6.15.12.2//NONSGML v1.0//EN
CALSCALE:GREGORIAN
METHOD:PUBLISH
X-ORIGINAL-URL:https://ngi.eu
X-WR-CALDESC:Events for Next Generation Internet
REFRESH-INTERVAL;VALUE=DURATION:PT1H
X-Robots-Tag:noindex
X-PUBLISHED-TTL:PT1H
BEGIN:VTIMEZONE
TZID:Europe/Brussels
BEGIN:DAYLIGHT
TZOFFSETFROM:+0100
TZOFFSETTO:+0200
TZNAME:CEST
DTSTART:20240331T010000
END:DAYLIGHT
BEGIN:STANDARD
TZOFFSETFROM:+0200
TZOFFSETTO:+0100
TZNAME:CET
DTSTART:20241027T010000
END:STANDARD
BEGIN:DAYLIGHT
TZOFFSETFROM:+0100
TZOFFSETTO:+0200
TZNAME:CEST
DTSTART:20250330T010000
END:DAYLIGHT
BEGIN:STANDARD
TZOFFSETFROM:+0200
TZOFFSETTO:+0100
TZNAME:CET
DTSTART:20251026T010000
END:STANDARD
BEGIN:DAYLIGHT
TZOFFSETFROM:+0100
TZOFFSETTO:+0200
TZNAME:CEST
DTSTART:20260329T010000
END:DAYLIGHT
BEGIN:STANDARD
TZOFFSETFROM:+0200
TZOFFSETTO:+0100
TZNAME:CET
DTSTART:20261025T010000
END:STANDARD
END:VTIMEZONE
BEGIN:VTIMEZONE
TZID:Europe/Madrid
BEGIN:DAYLIGHT
TZOFFSETFROM:+0100
TZOFFSETTO:+0200
TZNAME:CEST
DTSTART:20160327T010000
END:DAYLIGHT
BEGIN:STANDARD
TZOFFSETFROM:+0200
TZOFFSETTO:+0100
TZNAME:CET
DTSTART:20161030T010000
END:STANDARD
BEGIN:DAYLIGHT
TZOFFSETFROM:+0100
TZOFFSETTO:+0200
TZNAME:CEST
DTSTART:20170326T010000
END:DAYLIGHT
BEGIN:STANDARD
TZOFFSETFROM:+0200
TZOFFSETTO:+0100
TZNAME:CET
DTSTART:20171029T010000
END:STANDARD
BEGIN:DAYLIGHT
TZOFFSETFROM:+0100
TZOFFSETTO:+0200
TZNAME:CEST
DTSTART:20180325T010000
END:DAYLIGHT
BEGIN:STANDARD
TZOFFSETFROM:+0200
TZOFFSETTO:+0100
TZNAME:CET
DTSTART:20181028T010000
END:STANDARD
END:VTIMEZONE
BEGIN:VEVENT
DTSTART;TZID=Europe/Brussels:20250304T111500
DTEND;TZID=Europe/Brussels:20250304T124500
DTSTAMP:20260425T123507
CREATED:20250226T121507Z
LAST-MODIFIED:20250226T122023Z
UID:65662-1741086900-1741092300@ngi.eu
SUMMARY:NGI Sargasso at MWC - 4YFN 2025: A Panel and Pitching Session with our Innovators to Bridge Continents on Next Generation Internet
DESCRIPTION:One more year we are happy to announce that NGI Sargasso will attend 4YFN 2025\, the startup side event of Mobile World Congress (MWC) Barcelona\, with an agenda full of activities\, especially in the morning of the second day of the event\, on Tuesday the 4th of March starting at 11:15h. Keep reading to discover them\, and save this location in Fira Barcelona: Hall 8.1 – Stand 8.1.B.55! \n\n\n\nThe NGI Sargasso Panel at 4YFN 2025\n\n\n\nWe have gathered some of our innovators and stakeholders from the Next Generation Internet (NGI) community in a panel titled “Next-Generation Internet: Bridging Continents\, Innovating Together”. The panel will start at 11:15h on Tuesday\, the 4th of March\, in the Hall 8.1 – Stand 8.1.B.55\, and four of our beneficiaries will explain how they are shaping transatlantic collaboration on NGI technologies and services. \n\n\n\nSPEAKERS \n\n\n\n\nModerator: Emmanouil Detsis\, NGI Sargasso Project Coordinator – ESF Foundation.\n\n\n\nKeynote speaker: Stergios Tsiafoulis\, NGI Sargasso Project Officer – European Commission.\n\n\n\nNGI Sargasso Innovators:\n\nYuting Jiang\, CEO at Agora / ZKorum – Project: Agora / EeDP – Empowering eDemocracy for Peace (Open Call 3).\n\n\n\nAlex Bourlier\, Co-Founder at Startin’blox – Project: RSFA – Rosseta Stone for APIs (Open Call 2).\n\n\n\nChristos N. Stefanatos\, Project Lead at EV Loader / Parity Platform PC – Project: EVI US Pilot – Electric Vehicle Identity US Pilot (Open Call 3).\n\n\n\nErik Hieta-Aho\, Senior Scientist at VTT – Project: HPQCSSI – Hybrid Post-Quantum Cryptography Self-Sovereign Identity Stack (Open Call 2).\n\n\n\n\n\nClosing speaker: Monique Callisti\, NGI Outreach Office – Martel Innovate. 
URL:https://ngi.eu/event/ngi-sargasso-at-mwc-4yfn-2025-bridging-continents-innovating-together/
LOCATION:Fira de Barcelona Gran Via\, Av. Joan Carles I\, 58\, 08908 L'Hospitalet de Llobregat\, Barcelona\, Spain\, L'Hospitalet de Llobregat\, Catalunya\, 08908\, Spain
ATTACH;FMTTYPE=image/png:https://ngi.eu/wp-content/uploads/2025/02/1739217208380.png
GEO:41.3535;2.12822
X-APPLE-STRUCTURED-LOCATION;VALUE=URI;X-ADDRESS=Fira de Barcelona Gran Via Av. Joan Carles I 58 08908 L'Hospitalet de Llobregat Barcelona Spain L'Hospitalet de Llobregat Catalunya 08908 Spain;X-APPLE-RADIUS=500;X-TITLE=Av. Joan Carles I\, 58\, 08908 L'Hospitalet de Llobregat\, Barcelona\, Spain:geo:2.12822,41.3535
END:VEVENT
BEGIN:VEVENT
DTSTART;VALUE=DATE:20171114
DTEND;VALUE=DATE:20171117
DTSTAMP:20260425T123507
CREATED:20220728T075152Z
LAST-MODIFIED:20220728T075152Z
UID:39603-1510617600-1510876799@ngi.eu
SUMMARY:SMARTCITY EXPO 2017
DESCRIPTION:  \n \nMore than ever\, what happens in cities is shaping our world. The future of the world’s urban population will mostly be built in our lifetimes. The challenges we face are immense and only by working together will we be able to tackle them. \nOver the next few decades\, the continuing urbanization and overall growth of the world´s population is projected to add 2.5 billion people to the cities. All regions in the world are expected to urbanize further\, especially in Asia and Africa\, where the fastest growing cities are located. \nThe world is becoming even more interdependent and cities must act together across borders to deal with similar challenges: population growth\, climate change\, traffic congestion and pollution\, lack of adequate and affordable housing\, education and health\, the integration of refugees and migrants into urban life\, among many other pressing issues. \nEmpowerment has been defined as an intentional ongoing process which occurs in communities and organizations\, involves active participation\, critical reflection\, awareness and understanding\, and most difficult but important of all\, the access and control over important decisions and resources\, in a climate of mutual respect and caring. \nIn 2017 Smart City Expo World Congress intends to increase the presence of public and private organizations\, exhibitors and visitors from all over the world\, to keep generating synergies\, sharing knowledge\, provoking discussion\, promoting out of the box thinking and inspiring a call for actions. More than 16.000 professional visitors are expected\, with over 600 exhibitors\, along with high level representatives from more than 650 cities and over 400 experts and thought leaders. \nThe Congress gathers the most relevant experts and leaders of the world´s most innovative cities\, companies\, entrepreneurs\, start-ups\, research centers\, initiatives and solutions\, with strategies for a smarter and more sustainable urban world. At the Exhibition Area\, participants showcase their latest developments\, real solutions and products\, with technologies that are making concrete and lasting positive impacts on the lives of millions of people. \nBe part of this global community\, an ecosystem committed to creating powerful solutions\, the ones that will help to develop a more plural economy\, improve our quality of life and promote a healthier future.
URL:https://ngi.eu/event/smartcity-expo-2017/
LOCATION:Fira de Barcelona Gran Via\, Av. Joan Carles I\, 58\, 08908 L'Hospitalet de Llobregat\, Barcelona\, Spain\, L'Hospitalet de Llobregat\, Catalunya\, 08908\, Spain
CATEGORIES:Events
ATTACH;FMTTYPE=image/jpeg:https://ngi.eu/wp-content/uploads/2017/11/smartcity_expo-e1496650544190.jpg
GEO:41.3535;2.12822
X-APPLE-STRUCTURED-LOCATION;VALUE=URI;X-ADDRESS=Fira de Barcelona Gran Via Av. Joan Carles I 58 08908 L'Hospitalet de Llobregat Barcelona Spain L'Hospitalet de Llobregat Catalunya 08908 Spain;X-APPLE-RADIUS=500;X-TITLE=Av. Joan Carles I\, 58\, 08908 L'Hospitalet de Llobregat\, Barcelona\, Spain:geo:2.12822,41.3535
END:VEVENT
END:VCALENDAR