BEGIN:VCALENDAR
VERSION:2.0
PRODID:-//Next Generation Internet - ECPv6.15.12.2//NONSGML v1.0//EN
CALSCALE:GREGORIAN
METHOD:PUBLISH
X-WR-CALNAME:Next Generation Internet
X-ORIGINAL-URL:https://ngi.eu
X-WR-CALDESC:Events for Next Generation Internet
REFRESH-INTERVAL;VALUE=DURATION:PT1H
X-Robots-Tag:noindex
X-PUBLISHED-TTL:PT1H
BEGIN:VTIMEZONE
TZID:Europe/Brussels
BEGIN:DAYLIGHT
TZOFFSETFROM:+0100
TZOFFSETTO:+0200
TZNAME:CEST
DTSTART:20160327T010000
END:DAYLIGHT
BEGIN:STANDARD
TZOFFSETFROM:+0200
TZOFFSETTO:+0100
TZNAME:CET
DTSTART:20161030T010000
END:STANDARD
BEGIN:DAYLIGHT
TZOFFSETFROM:+0100
TZOFFSETTO:+0200
TZNAME:CEST
DTSTART:20170326T010000
END:DAYLIGHT
BEGIN:STANDARD
TZOFFSETFROM:+0200
TZOFFSETTO:+0100
TZNAME:CET
DTSTART:20171029T010000
END:STANDARD
BEGIN:DAYLIGHT
TZOFFSETFROM:+0100
TZOFFSETTO:+0200
TZNAME:CEST
DTSTART:20180325T010000
END:DAYLIGHT
BEGIN:STANDARD
TZOFFSETFROM:+0200
TZOFFSETTO:+0100
TZNAME:CET
DTSTART:20181028T010000
END:STANDARD
END:VTIMEZONE
BEGIN:VEVENT
DTSTART;TZID=Europe/Brussels:20171122T140000
DTEND;TZID=Europe/Brussels:20171122T170000
DTSTAMP:20260420T111729
CREATED:20220728T075021Z
LAST-MODIFIED:20220728T075021Z
UID:39569-1511359200-1511370000@ngi.eu
SUMMARY:An NGI Move Salon: Informal Seminar on blockchain and public agency
DESCRIPTION:An NGI Brussels: on blockchain and public agency\nOn blockchain and public agency.\nDecentralized data governance: leveraging on distributed open hardware and software ecosystems based on blockchains\, distributed ledger technology\, open data and peer-to-peer technologies. Attention should be paid to ethical\, legal and privacy issues\, as well as to the concepts of autonomy\, data sovereignty and ownership\, values and regulations. \nIn Smart Decentralisation: Moving From The Cloud To The Fog\, Dominik Schiener\, Co-Founder — IOTA Foundation\, asks what the evolutionary transition towards smart decentralization means for both the internet of things and our society?: “With the introduction of blockchain\, the internet of things will actually move away from the cloud and towards the fog – something that in turn could give rise to a fully autonomous machine economy\, one that no longer needs the intervention of human managers.” DECODE provides tools that put individuals in control of whether they keep their personal data private or share it for the public good. IDEO\, Microsoft\, IOTA support DIF in building an open source decentralized identity ecosystem for people\, organizations\, apps\, and devices. The goal of the World Identity Network (WIN) is to catalyze progress towards universal ID and robust\, secure\, digital identification systems using 21st century technology solutions\, such as the distributed ledger technology (DLT). uPort is an open source software project to establish a global\, unified\, sovereign identity system for people\, businesses\, organizations\, devices\, and bots. Accenture and Microsoft are creating a blockchain solution to support ID2020\, a global public-private partnership dedicated to solving the challenges of identity faced by more than 1.1 billion people around the world.  What will this competition on the passport lead to? What kind of societies are being built by whom? \nVenue\nDIGITALEUROPE\n14 Rue de la Science\,\n1040 Brussels\, Belgium \nModerators\nGérald Santucci (writer) and Cecilia Bonefeld-Dahl\, DG DIGITALEUROPE \nRapporteur\nRob van Kranenburg (Resonance Design) \nAgenda\n\nNGI Welcome by Nicole Müssigmann\, Policy Officer EC\nOpening remarks by Eva Kaili\, Member of the European Parliament #Chair Scientific Foresight Unit & Chair D-NATO PA EU\nPanel with:\n\nAndrea Servida\, Head of Unit “eGovernment and Trust” DG CONNECT\nDenis ‘Jaromil’ Roio\, CTO and co-founder of Dyne.org Foundation\, lead design of DECODE\nDominik Schiener\, Working on the intersection of IoT and Blockchain. Co-Founder @iotatoken\nSusana Nascimento\, Policy Analyst-Foresight\, Behavioural Insights and Design for Policy\, JRC\nFabrizio Sestini\, Senior Expert for Digital Social Innovation\, DG CONNECT\nMarloes Plomp\, Member of the Advisory Board bij bitJob\, presenting Blockchain Pilots\n\n\n\nThe event is FREE but RSVP to kranenbu@xs4all.nl (max 30)\nBe up to date! Follow @NGI4EU | #NGI4EU #NGIeu \n\n  \n\n\n\nNGI – Towards a future Internet that better responds to the expectations of the citizens!\n„We need the collective vision and engagement of all stakeholders to create the Next Generation Internet. We need to gather and discuss ideas concerning concepts\, technologies and applications coming from the largest possible community. We need to work together to build a future Internet that better responds to the expectations of the citizens.“ \nRoberto Viola\, Director-General for Communications Networks\, Content & Technology at the European Commission \n  \nNGI Move\, @NGI4EU brings you Salons and Meetings all over Europe to promote\, exchange and debate the Next Generation Internet movement. \nWhat should the Next Generation Internet look like?\nJoin the NGI-Movement @NGI4EU\n\nNEXT GENERATION INTERNET FUNDING\nFor the ICT-24 call closing in 2018\, ‘Research & Innovation Actions’ in the following three sub-topics will be called for. Proposals should address only one of these sub-topics. Specifically\, the call is designed for 20/80% funding scheme\, where 80% is reserved for sub-granting. \nPrivacy and trust enhancing technologies: as sensors\, objects\, devices\, AI-based algorithms\, etc.\, are incorporated in our digital environment\, develop robust and easy to use technologies to help users increase trust and achieve greater control when sharing their personal data\, attributes and information. \nDecentralized data governance: leveraging on distributed open hardware and software ecosystems based on blockchains\, distributed ledger technology\, open data and peer-to-peer technologies. Attention should be paid to ethical\, legal and privacy issues\, as well as to the concepts of autonomy\, data sovereignty and ownership\, values and regulations. \nDiscovery and identification technologies: to search and access large heterogeneous data sources\, services\, objects and sensors\, devices\, multi-media content\, etc. and which may include aspects of numbering; providing contextual querying\, personalized information retrieval and increased quality of experience.
URL:https://ngi.eu/event/an-ngi-move-salon-informal-seminar-on-blockchain-and-public-agency/
LOCATION:DIGITALEUROPE\, Wetenschapsstraat 14\, 1040 Brussel\, Belgium\, Brussel\, Brussels Hoofdstedelijk Gewest\, 1040\, Belgium
CATEGORIES:Events
ATTACH;FMTTYPE=image/png:https://ngi.eu/wp-content/uploads/2017/07/ngi_move_salon.png
GEO:50.842712;4.371383
X-APPLE-STRUCTURED-LOCATION;VALUE=URI;X-ADDRESS=DIGITALEUROPE Wetenschapsstraat 14 1040 Brussel Belgium Brussel Brussels Hoofdstedelijk Gewest 1040 Belgium;X-APPLE-RADIUS=500;X-TITLE=Wetenschapsstraat 14\, 1040 Brussel\, Belgium:geo:4.371383,50.842712
END:VEVENT
END:VCALENDAR