BEGIN:VCALENDAR
VERSION:2.0
PRODID:-//Next Generation Internet - ECPv6.15.12.2//NONSGML v1.0//EN
CALSCALE:GREGORIAN
METHOD:PUBLISH
X-ORIGINAL-URL:https://ngi.eu
X-WR-CALDESC:Events for Next Generation Internet
REFRESH-INTERVAL;VALUE=DURATION:PT1H
X-Robots-Tag:noindex
X-PUBLISHED-TTL:PT1H
BEGIN:VTIMEZONE
TZID:Europe/Brussels
BEGIN:DAYLIGHT
TZOFFSETFROM:+0100
TZOFFSETTO:+0200
TZNAME:CEST
DTSTART:20180325T010000
END:DAYLIGHT
BEGIN:STANDARD
TZOFFSETFROM:+0200
TZOFFSETTO:+0100
TZNAME:CET
DTSTART:20181028T010000
END:STANDARD
BEGIN:DAYLIGHT
TZOFFSETFROM:+0100
TZOFFSETTO:+0200
TZNAME:CEST
DTSTART:20190331T010000
END:DAYLIGHT
BEGIN:STANDARD
TZOFFSETFROM:+0200
TZOFFSETTO:+0100
TZNAME:CET
DTSTART:20191027T010000
END:STANDARD
BEGIN:DAYLIGHT
TZOFFSETFROM:+0100
TZOFFSETTO:+0200
TZNAME:CEST
DTSTART:20200329T010000
END:DAYLIGHT
BEGIN:STANDARD
TZOFFSETFROM:+0200
TZOFFSETTO:+0100
TZNAME:CET
DTSTART:20201025T010000
END:STANDARD
BEGIN:DAYLIGHT
TZOFFSETFROM:+0100
TZOFFSETTO:+0200
TZNAME:CEST
DTSTART:20210328T010000
END:DAYLIGHT
BEGIN:STANDARD
TZOFFSETFROM:+0200
TZOFFSETTO:+0100
TZNAME:CET
DTSTART:20211031T010000
END:STANDARD
END:VTIMEZONE
BEGIN:VEVENT
DTSTART;TZID=Europe/Brussels:20201210T140000
DTEND;TZID=Europe/Brussels:20201210T160000
DTSTAMP:20260424T180428
CREATED:20220728T081302Z
LAST-MODIFIED:20220728T081302Z
UID:40018-1607608800-1607616000@ngi.eu
SUMMARY:NGI projects’ contribution to technological developments of DNS and naming systems
DESCRIPTION:This webinar will gather the projects in the NGI portfolio that contribute to the evolution of the DNS and naming systems. \nThe objective of the webinar is to trigger information and experience sharing\, to stimulate synergies and complementarities and to understand similarities among those projects as well as others interested parties. \nAgenda:\n14:00 – 14:10\nIntroduction (EC) \n14:10 – 15:15\nPresentations from various projects on their developments: \n\nBenno Overeinder (Nlnet Labs) – DNSSEC key signing suite (slides available here) and Connect by Name (slides available here)\nAlexander ter Haar (Open-Xchange) – Privacy Enhancements for PowerDNS and DNSdist (slides available here)\nLeif Johannsson (Sunet) – Cryptech.is/Cryptrev (slides available here)\nRick van Rein (internetwide) – Id-xover InternetWide Identity through Realm Crossover (slides available here)\nChristian Grothoff (Bern University of Applied Sciences) – GNU Name System (slides available here)\nJeremy Rand (namecoin.org) – Namecoin: ZeroNet and Packaging and Core Infrastructure (slides available here)\n\n15:15 – 16:00\nPanel Q&A \n \n 
URL:https://ngi.eu/event/ngi-projects-contribution-to-technological-developments-of-dns-and-naming-systems/
LOCATION:ON-LINE EVENT
CATEGORIES:Events
ATTACH;FMTTYPE=image/jpeg:https://ngi.eu/wp-content/uploads/2019/07/NGI.jpg
END:VEVENT
BEGIN:VEVENT
DTSTART;TZID=Europe/Brussels:20190404T130000
DTEND;TZID=Europe/Brussels:20190404T140000
DTSTAMP:20260424T180428
CREATED:20220728T080133Z
LAST-MODIFIED:20220728T080133Z
UID:39803-1554382800-1554386400@ngi.eu
SUMMARY:LEDGER - OPEN CALL WEBINAR 3
DESCRIPTION:LEDGER\, an EU funded project\, empowers people to solve problems using decentralised technologies such blockchain\, peer to peer or distributed ledger technologies. Do you have questions?  \nThis webinar will guide you through the application process with an open Q&A session hosted by our experts ready to answer all your questions.  \nDuring this webinar we will focus on three verticals; Health\, Economy and Public Services\, to make your application incisive.  \nLEDGER is looking for 32 projects to build Minimum viable products (MVPs) where privacy by design\, openness and citizen data sovereignity are at the core of their proposition.  \nLEDGER is part of the Next Generation Internet initiative from the European Commission\, and aligns with the objectives of the European Blockchain Partnership. \nAsk any questions to the community at ledger.fundingbox.com \n\nDid you miss the webinar? See it here below and download the webinar slides. \n \n 
URL:https://ngi.eu/event/ledger-open-call-webinar-3/
LOCATION:WEB-STREAMED | TIME CET
CATEGORIES:Events
ATTACH;FMTTYPE=image/jpeg:https://ngi.eu/wp-content/uploads/2019/02/Ledger_icon.jpg
ORGANIZER;CN="Cassandra Holden":MAILTO:holden@blumorpho.com
END:VEVENT
END:VCALENDAR