BEGIN:VCALENDAR
VERSION:2.0
PRODID:-//Next Generation Internet - ECPv6.15.12.2//NONSGML v1.0//EN
CALSCALE:GREGORIAN
METHOD:PUBLISH
X-ORIGINAL-URL:https://ngi.eu
X-WR-CALDESC:Events for Next Generation Internet
REFRESH-INTERVAL;VALUE=DURATION:PT1H
X-Robots-Tag:noindex
X-PUBLISHED-TTL:PT1H
BEGIN:VTIMEZONE
TZID:Europe/Paris
BEGIN:DAYLIGHT
TZOFFSETFROM:+0100
TZOFFSETTO:+0200
TZNAME:CEST
DTSTART:20180325T010000
END:DAYLIGHT
BEGIN:STANDARD
TZOFFSETFROM:+0200
TZOFFSETTO:+0100
TZNAME:CET
DTSTART:20181028T010000
END:STANDARD
BEGIN:DAYLIGHT
TZOFFSETFROM:+0100
TZOFFSETTO:+0200
TZNAME:CEST
DTSTART:20190331T010000
END:DAYLIGHT
BEGIN:STANDARD
TZOFFSETFROM:+0200
TZOFFSETTO:+0100
TZNAME:CET
DTSTART:20191027T010000
END:STANDARD
BEGIN:DAYLIGHT
TZOFFSETFROM:+0100
TZOFFSETTO:+0200
TZNAME:CEST
DTSTART:20200329T010000
END:DAYLIGHT
BEGIN:STANDARD
TZOFFSETFROM:+0200
TZOFFSETTO:+0100
TZNAME:CET
DTSTART:20201025T010000
END:STANDARD
END:VTIMEZONE
BEGIN:VEVENT
DTSTART;VALUE=DATE:20190314
DTEND;VALUE=DATE:20190317
DTSTAMP:20260420T023459
CREATED:20220728T080443Z
LAST-MODIFIED:20220728T080443Z
UID:39864-1552521600-1552780799@ngi.eu
SUMMARY:FSiC2019
DESCRIPTION:Free Silicon Conference (FSiC) 2019\nThe second Free Silicon Conference (FSiC) took place at Sorbonne Université (Paris) on March 14-16 2019. The conference brought together experts and enthusiasts who want to build a complete Free and Open Source CAD ecosystem for designing analog and digital integrated circuits. The conference covered the full spectrum of the design process\, from system architecture\, to layout and verification. The conference consisted of three full days\, including a Saturday for facilitating those who are involved as non-professionals. After the daily talks\, the discussion continued until late in an informal and relaxed atmosphere at the on-campus caves Esclangon. \nAll video recordings are available on peertube. \nVideo recordings\, slides and documentation\nAll the talks have been recorded and can be watched on peertube. Extra documentation and the slides of most talks can be found by clicking on the respective titles in the program below. \nOrganizing committee\n\nMarie-Minerve Louërat\, LIP6\, CNRS\nRoselyne Chotin\, LIP6\, Sorbonne Université\nJean-Paul Chaput\, LIP6\, Sorbonne Université\nLuca Alloatti\, ETH-Zurich\nMatthias Koefferlein\, KLayout project\nSean Cross\, Kosagi\nThomas Kramer\, ETH-Zurich
URL:https://ngi.eu/event/fsic2019/
LOCATION:Sorbonne Université\, 4 Place Jussieu\, 75005 Paris\, France\, Paris\, Île-de-France\, 75005\, France
CATEGORIES:Events
ATTACH;FMTTYPE=image/png:https://ngi.eu/wp-content/uploads/2019/12/600px-Fsic2019_logo.svg.png
GEO:48.847104;2.357499
X-APPLE-STRUCTURED-LOCATION;VALUE=URI;X-ADDRESS=Sorbonne Université 4 Place Jussieu 75005 Paris France Paris Île-de-France 75005 France;X-APPLE-RADIUS=500;X-TITLE=4 Place Jussieu\, 75005 Paris\, France:geo:2.357499,48.847104
END:VEVENT
END:VCALENDAR