BEGIN:VCALENDAR
VERSION:2.0
PRODID:-//Next Generation Internet - ECPv6.15.12.2//NONSGML v1.0//EN
CALSCALE:GREGORIAN
METHOD:PUBLISH
X-WR-CALNAME:Next Generation Internet
X-ORIGINAL-URL:https://ngi.eu
X-WR-CALDESC:Events for Next Generation Internet
REFRESH-INTERVAL;VALUE=DURATION:PT1H
X-Robots-Tag:noindex
X-PUBLISHED-TTL:PT1H
BEGIN:VTIMEZONE
TZID:Europe/Brussels
BEGIN:DAYLIGHT
TZOFFSETFROM:+0100
TZOFFSETTO:+0200
TZNAME:CEST
DTSTART:20200329T010000
END:DAYLIGHT
BEGIN:STANDARD
TZOFFSETFROM:+0200
TZOFFSETTO:+0100
TZNAME:CET
DTSTART:20201025T010000
END:STANDARD
BEGIN:DAYLIGHT
TZOFFSETFROM:+0100
TZOFFSETTO:+0200
TZNAME:CEST
DTSTART:20210328T010000
END:DAYLIGHT
BEGIN:STANDARD
TZOFFSETFROM:+0200
TZOFFSETTO:+0100
TZNAME:CET
DTSTART:20211031T010000
END:STANDARD
BEGIN:DAYLIGHT
TZOFFSETFROM:+0100
TZOFFSETTO:+0200
TZNAME:CEST
DTSTART:20220327T010000
END:DAYLIGHT
BEGIN:STANDARD
TZOFFSETFROM:+0200
TZOFFSETTO:+0100
TZNAME:CET
DTSTART:20221030T010000
END:STANDARD
END:VTIMEZONE
BEGIN:VEVENT
DTSTART;VALUE=DATE:20210319
DTEND;VALUE=DATE:20210320
DTSTAMP:20260419T192357
CREATED:20220728T081638Z
LAST-MODIFIED:20220728T081638Z
UID:40090-1616112000-1616198399@ngi.eu
SUMMARY:Digital Day 2021
DESCRIPTION:Digital Day 2021 will take place on 19 March as a virtual event\, organised by the European Commission in cooperation with the Portuguese Presidency. \nDigital Day 2021 will bring together Member States to discuss current and future challenges of digital technologies and commit to addressing them. Hosted by Thierry Breton\, the EU Commissioner for the Internal Market\, and the Portuguese Presidency of the Council of the European Union\, this one-day event will include Ministers from Member States\, Members of European Parliament\, executives of industry and other high-level stakeholders. \nLike at previous Digital Days\, Member States will make concrete commitments in the form of ministerial declarations. Ground breaking initiatives resulting from previous Digital Day Declarations include the European High Performance Computing (EuroHPC) Joint Undertaking\, the European Blockchain Services Infrastructure (EBSI) or 5G cross-border corridors for Connected and Automated Mobility. \nDuring Digital Day\, Member States will sign commitments on data\, startups and a green and digital transformation of the EU. These declarations will strengthen Europe’s role in the digital world through international partnerships\, boosting the digital economy\, finding green digital solutions and more. CEOs from the ICT sector will also be invited to sign a declaration committing to a greener digital future. \nSessions will be hosted online\, and are open to the press. Journalists and the general public can register for the event on the registration page. \nYou can download the programme below or view it online. \nFollow us on Twitter @DigitalEU for the latest event updates and join the online discussions with #DigitalDay2021 & #DigitalEU
URL:https://ngi.eu/event/digital-day-2021/
LOCATION:Online event
CATEGORIES:Events
ATTACH;FMTTYPE=image/jpeg:https://ngi.eu/wp-content/uploads/2021/03/digital-day-2021_cover.jpg
END:VEVENT
END:VCALENDAR